

BEGIN:VCALENDAR
VERSION:2.0
PRODID:-//Passion and Performance - ECPv6.15.18//NONSGML v1.0//EN
CALSCALE:GREGORIAN
METHOD:PUBLISH
X-ORIGINAL-URL:https://www.passionandperformance.com
X-WR-CALDESC:Events for Passion and Performance
REFRESH-INTERVAL;VALUE=DURATION:PT1H
X-Robots-Tag:noindex
X-PUBLISHED-TTL:PT1H
BEGIN:VTIMEZONE
TZID:America/Vancouver
BEGIN:DAYLIGHT
TZOFFSETFROM:-0800
TZOFFSETTO:-0700
TZNAME:PDT
DTSTART:20220313T100000
END:DAYLIGHT
BEGIN:STANDARD
TZOFFSETFROM:-0700
TZOFFSETTO:-0800
TZNAME:PST
DTSTART:20221106T090000
END:STANDARD
BEGIN:DAYLIGHT
TZOFFSETFROM:-0800
TZOFFSETTO:-0700
TZNAME:PDT
DTSTART:20230312T100000
END:DAYLIGHT
BEGIN:STANDARD
TZOFFSETFROM:-0700
TZOFFSETTO:-0800
TZNAME:PST
DTSTART:20231105T090000
END:STANDARD
BEGIN:DAYLIGHT
TZOFFSETFROM:-0800
TZOFFSETTO:-0700
TZNAME:PDT
DTSTART:20240310T100000
END:DAYLIGHT
BEGIN:STANDARD
TZOFFSETFROM:-0700
TZOFFSETTO:-0800
TZNAME:PST
DTSTART:20241103T090000
END:STANDARD
END:VTIMEZONE
BEGIN:VEVENT
DTSTART;TZID=America/Vancouver:20230612T180000
DTEND;TZID=America/Vancouver:20230615T203000
DTSTAMP:20260424T210901
CREATED:20230515T230332Z
LAST-MODIFIED:20230515T230332Z
UID:18723-1686592800-1686861000@www.passionandperformance.com
SUMMARY:YYJ Donation Days June 12-15!
DESCRIPTION:Another round of Donation Days June 12-15! \n  \nDonation Days is an opportunity to try out our classes by providing a small donation at the door. This year we recommend a $2 cash donation at the door or a non-perishable food item. All proceeds go to Bridges for Women Society. \n  \nSAVE YOUR SPOT! It is not required to sign up in advance to save your spot\, but we do encourage students to! Simply use the Mindbody app (or access the online portal https://clients.mindbodyonline.com/classic/ws?studioid=997839&stype=-7&sTG=65&sView=week&sLoc=1&date=06/12/23)\, search the week of Donation Days and put your name down for any classes you plan to attend. If you feel like just walking in and showing up\, that’s totally fine too! \n  \nIf you wish to sign up for any classes that you tried during Donation Days\, they will begin the week following and operate on the same schedule as the Donation Days schedule. If you wish to sign up for the full session and/or Summer Camp we strongly encourage you to register in advance as our classes fill up very quickly! \n  \nNEW THIS SUMMER: Summer Camps! Instead of taking 1 class per week\, take four 1.5hr classes all in one week\, plus an extra practice class for the Summer Hotness Show on August 12th! There are 8 rotating camps to choose from! One camp is the same pricing as adding 1 sessional class (or $165/camp for Non-Members). Visit www.passionandperformance.com to see the full Summer Camp schedule and try some of the teasers during Donation Days! \n  \nSUMMER CREW: If you’re wanting to join the Summer Crew\, you’ll need to be at the audition 7-8:30pm on June 13th. Summer Crew is an advanced level and will perform one routine in the Summer Hotness Show. \n  \n**LEVELS**\nOne Star (*) is an open level class and all levels are welcome.\nTwo stars (**) is a beginner class.\nThree stars (***) is an intermediate class.\nFour stars (****) is an advanced class. \n  \nSCHEDULE: \nMonday\, June 12th:\n6:00-7:00PM Chair*\n6:00-7:00PM Heels Skills*\n7:00-8:00PM Hotness*\n7:00-8:30PM Modern Musical Theatre Jazz SUMMER CAMP TEASER***\n8:30-9:30PM Heels*** \n  \nTuesday\, June 13th:\n6:00-7:00PM Burlesque*\n6:00-7:00PM Yoga*\n7:00-8:00PM Waacking & Voguing*\n7:00-8:30PM Hotness SUMMER CAMP TEASER*\n8:30-9:30 Cabaret Jazz*\n8:30-9:45 Summer Crew Audition**** \n  \nWednesday\, June 14th:\n7:30-8:30AM Integrative Conditioning*\n—\n6:00-7:00PM Jazz 1**\n7:00-8:00PM Hip Hop 1**\n7:00-8:30PM Tap SUMMER CAMP TEASER***\n8:30-9:30PM Lyrical/Contemporary 1**\n8:30-9:30 Sultry Slowburn* \n  \nThursday\, June 15th:\n6:00-7:00PM Jazz 2/3***\n6:00-7:00PM Pop Culture – “Friends”*\n7:00-8:00PM Hip Hop 2/3***\n7:00-8:30PM Floorwork Slowburn SUMMER CAMP TEASER*\n8:30-9:30PM Drag 101*\n8:30-9:30PM Lyrical/Contermporary 2/3*** \n  \nEmail us at victoria@passionandperformance.com
URL:https://www.passionandperformance.com/event/yyj-donation-days-june-12-15/
LOCATION:Victoria Passion and Performance Studio\, 202-3301 Douglas Street\, Victoria\, British Columbia\, V8Z3L2\, Canada
CATEGORIES:Victoria Events,YYJ Donation Days
ATTACH;FMTTYPE=image/png:https://www.passionandperformance.com/ol2020/wp-content/uploads/Session-6-2023-Victoria-Donation-Days-Summer-1.png
ORGANIZER;CN="Passion And Performance Art Studio":MAILTO:info@passionandperformance.com
END:VEVENT
END:VCALENDAR