

BEGIN:VCALENDAR
VERSION:2.0
PRODID:-//Passion and Performance - ECPv6.15.18//NONSGML v1.0//EN
CALSCALE:GREGORIAN
METHOD:PUBLISH
X-ORIGINAL-URL:https://www.passionandperformance.com
X-WR-CALDESC:Events for Passion and Performance
REFRESH-INTERVAL;VALUE=DURATION:PT1H
X-Robots-Tag:noindex
X-PUBLISHED-TTL:PT1H
BEGIN:VTIMEZONE
TZID:America/Vancouver
BEGIN:DAYLIGHT
TZOFFSETFROM:-0800
TZOFFSETTO:-0700
TZNAME:PDT
DTSTART:20210314T100000
END:DAYLIGHT
BEGIN:STANDARD
TZOFFSETFROM:-0700
TZOFFSETTO:-0800
TZNAME:PST
DTSTART:20211107T090000
END:STANDARD
BEGIN:DAYLIGHT
TZOFFSETFROM:-0800
TZOFFSETTO:-0700
TZNAME:PDT
DTSTART:20220313T100000
END:DAYLIGHT
BEGIN:STANDARD
TZOFFSETFROM:-0700
TZOFFSETTO:-0800
TZNAME:PST
DTSTART:20221106T090000
END:STANDARD
BEGIN:DAYLIGHT
TZOFFSETFROM:-0800
TZOFFSETTO:-0700
TZNAME:PDT
DTSTART:20230312T100000
END:DAYLIGHT
BEGIN:STANDARD
TZOFFSETFROM:-0700
TZOFFSETTO:-0800
TZNAME:PST
DTSTART:20231105T090000
END:STANDARD
END:VTIMEZONE
BEGIN:VEVENT
DTSTART;VALUE=DATE:20221023
DTEND;VALUE=DATE:20221028
DTSTAMP:20260423T063824
CREATED:20221003T213538Z
LAST-MODIFIED:20221003T213538Z
UID:14670-1666483200-1666915199@www.passionandperformance.com
SUMMARY:Vancouver Donation Days - October
DESCRIPTION:Don’t miss our 2nd Session Donation Days! \nDonation Days is an opportunity to try out our classes by providing a small cash donation at the door or clothing/toiletries. All proceeds to WISH Drop In Center Society. \nRegistration in advance for Donation Days is strongly recommended to save a spot for yourself in the class. Walk-ins will be welcome at this event\, provided there is space. You can pre-register for your Donation Days Classes by clicking HERE>>> \n(Note: to see the classes\, make sure you go to the appropriate dates for the event on the top right corner and to set the location to the Vancouver studio location) \nIf you wish to sign up for the full session or program we strongly encourage you to register in advance as our classes fill up very quickly! You can register by clicking HERE>>>  (Make sure you select the Vancouver Location) \nSCHEDULE \nSunday October 23rd\n1:00-2:00 Open Level Heels*\n2:15-3:15 Heels 2***\n3:30-4:30 Jumps\, Turns & Tech!* \nMonday October 24th\n6:00-7:00 Hotness 101**\n6:00-7:00 Barre*\n7:00-8:00 Hotness 102***\n7:00-8:00 Hip Hop*\n8:00-9:00 Drag 101**\n8:00-9:15 Intro to Showgirls** \nTuesday October 25th\n6:15-7:15 Ballet Skills*\n7:15-8:30 Jazz 2***\n7:15-8:30 Jazz 1**\n8:30-9:30 KPop**** \nWednesday October 26th\n6:00-7:00 Tap 2***\n6:00-7:00 Reggaeton Skills*\n7:00-8:00 Chair**\n7:00-8:00 Jazz Funk 2***\n8:00-9:00 Hotness Skills*\n8:00-9:15 Cabaret Jazz* \nThursday\, October 27th:\n6:00-7:15 Contemporary 2***\n6:15-7:15 Heels 1**\n7:15-8:30 Contemporary 1**\n8:15-9:15 Yoga for Dancers* \nOne Star (*) is an open level class and all levels are welcome.\nTwo stars (**) is a beginner class.\nThree stars (***) is an intermediate class.\nFour stars (****) is an advanced class. \nIMPORTANT NOTE FOR STUDENTS: Our class capacity has returned to our standard class sizing. We encourage our students returning to dance since the pandemic to be kind to themselves. You may experience sensory sensitivity being in a crowded space with loud music again. It will take a few classes to get used to it. We recommend dancing in the back for your first few classes if you are concerned so you can easily access the door as necessary. We have many vulnerable members of our community at the studio\, we kindly ask that you navigate the space with care and consideration. Please sanitize your hands frequently and keep a respectful distance from other students.
URL:https://www.passionandperformance.com/event/vancouver-donation-days-october/
LOCATION:Vancouver Passion and Performance Studio\, 55 W 8th Ave\, Vancouver\, BC\, V5Y 1M8\, Canada
CATEGORIES:Vancouver Events,YVR Donation Days
ATTACH;FMTTYPE=image/jpeg:https://www.passionandperformance.com/ol2020/wp-content/uploads/309367868_134856012625109_9204532319719767874_n.jpg
ORGANIZER;CN="Passion And Performance Art Studio":MAILTO:info@passionandperformance.com
END:VEVENT
BEGIN:VEVENT
DTSTART;TZID=America/Vancouver:20220911T130000
DTEND;TZID=America/Vancouver:20220915T220000
DTSTAMP:20260423T063824
CREATED:20220706T235146Z
LAST-MODIFIED:20220706T235146Z
UID:13753-1662901200-1663279200@www.passionandperformance.com
SUMMARY:Vancouver Donation Days - September 2022
DESCRIPTION:Donation Days is an opportunity to try out our classes by providing a small donation at the door. This year we recommend a $2 cash donation at the door (*Please do not bring food items as donations per Covid-19 changes). All proceeds go to WISH Drop in Society. \n\n\nRegistration in advance for Donation Days is strongly recommended to save a spot for yourself in the class. Walk-ins will be welcome at this event\, provided there is space. You can pre-register for your Donation Days Classes HERE>>> (Note: to see the classes\, make sure you go to the appropriate dates for the event on the top right corner and to set the location to the Vancouver studio  location) \nIf you wish to sign up for the full session or program we strongly encourage you to register in advance as our classes fill up very quickly! You can register HERE  (Make sure you select the Vancouver Location) \n\n\n**LEVELS**\nOne Star (*) is an open level class and all levels are welcome.\nTwo stars (**) is a beginner class.\nThree stars (***) is an intermediate class.\nFour stars (****) is an advanced class.\n\n\nSunday September 11th\n1:00-2:00 Open Level Heels*\n2:15-3:15 Heels 2***\n3:30-4:30 Jazz Funk Skills*\n\n\n\n\nMonday September 12th\n6:00-7:00 Hotness 101**\n6:00-7:00 Barre*\n7:00-8:00 Hotness 102***\n7:00-8:00 Hip Hop Skills*\n8:00-9:00 Drag 101**\n8:00-9:15 Intro to Showgirls**\n\n\n\n\nTuesday September 13th\n6:00-7:15 Jazz 1**\n6:15-7:15 Ballet Skills*\n7:15-8:30 Jazz 2***\n7:15-8:30 Contemporary 3****\n8:30-9:45 Company Audition Class****\n8:30-9:30 Advanced Rotating Class: Sassy in Sneakers****\n\n\n\n\nWednesday September 14th\n5:00-6:00 Latin Fitness*\n6:00-7:00 Tap 2***\n6:00-7:00 Reggaeton Skills*\n7:00-8:00 Chair**\n7:00-8:00 Pop Culture*\n8:00-9:00 Hotness Skills*\n8:00-9:15 Cabaret Jazz*\n\n\n\n\nThursday\, September 15th:\n5:00-6:00 Dancer Bootcamp*\n6:00-7:15 Contemporary 2***\n6:15-7:15 Heels 1**\n7:15-8:30 Contemporary 1**\n7:15-8:30 Heels Company Audition****\n8:15-9:15 Yoga for Dancers*\n\n\n\nSkill Requirements:\n~Level requirements do not pertain to any chair classes~\nLEVEL 1\nNone! Open to all levels and backgrounds.\nLEVEL 2\nParticipants in any level 2 class should be comfortable with the following terminology and should be able to perform: single pirouettes\, chaine turns\, basic jumps\, as well as have some comfort performing basic floor work. Most students in a level 2 class will have 5+ years of dance experience.\nLEVEL 3\nParticipants of this level 3 class should be comfortable with the following terminology and should be able to perform: double pirouettes\, axle as well as barrel jumps\, floor work including backward rolls\, and be comfortable with fast-paced choreography. Most students in a level 3 class will have 10+ years of studio dance experience.\n  \nIMPORTANT NOTE FOR STUDENTS: Our class capacity has returned to our standard class sizing. We encourage our students returning to dance since the pandemic to be kind to themselves. You may experience sensory sensitivity being in a crowded space with loud music again. It will take a few classes to get used to it. We recommend dancing in the back for your first few classes if you are concerned so you can easily access the door as necessary. Masks are not mandatory but encouraged. We have many vulnerable members of our community at the studio\, we kindly ask that you navigate the space with care and consideration. Please sanitize your hands frequently and keep a respectful distance from other students.
URL:https://www.passionandperformance.com/event/vancouver-donation-days-september-2022/
LOCATION:BC
CATEGORIES:YVR Donation Days
ATTACH;FMTTYPE=image/jpeg:https://www.passionandperformance.com/ol2020/wp-content/uploads/292244694_138478238810406_524386135497268752_n.jpg
ORGANIZER;CN="Passion And Performance Art Studio":MAILTO:info@passionandperformance.com
END:VEVENT
BEGIN:VEVENT
DTSTART;TZID=America/Vancouver:20220829T160000
DTEND;TZID=America/Vancouver:20220829T193000
DTSTAMP:20260423T063824
CREATED:20220711T235013Z
LAST-MODIFIED:20220711T235321Z
UID:13856-1661788800-1661801400@www.passionandperformance.com
SUMMARY:Vancouver Registration Day
DESCRIPTION:Do you need some help answering questions and selecting the right classes for you? \nCome down to our studio or give us a call on Monday\, August 29th\, 2022 from 4:00-7:30 PM for registration day! Our staff will be able to help you get set up for your classes\, pick out the right ones for you and get you ready to go for your dance journey! \nAll students who register for classes before September 1st will be entered to win the Passion Package:  \n\nA free one class membership for the year (Value $1000)\nStudio Merchandise\nA $200 costume credit\n2 tickets to our first show: The Candy Cane Cabaret\n\nRegistration for classes open on Friday\, July 15th\, 2022. \n 
URL:https://www.passionandperformance.com/event/vancouver-registration-day/
LOCATION:Vancouver Passion and Performance Studio\, 55 W 8th Ave\, Vancouver\, BC\, V5Y 1M8\, Canada
CATEGORIES:Vancouver Events
ATTACH;FMTTYPE=image/png:https://www.passionandperformance.com/ol2020/wp-content/uploads/YVR-Registration-Day-.png
ORGANIZER;CN="Passion And Performance Art Studio":MAILTO:info@passionandperformance.com
END:VEVENT
END:VCALENDAR