

BEGIN:VCALENDAR
VERSION:2.0
PRODID:-//Passion and Performance - ECPv6.15.18//NONSGML v1.0//EN
CALSCALE:GREGORIAN
METHOD:PUBLISH
X-ORIGINAL-URL:https://www.passionandperformance.com
X-WR-CALDESC:Events for Passion and Performance
REFRESH-INTERVAL;VALUE=DURATION:PT1H
X-Robots-Tag:noindex
X-PUBLISHED-TTL:PT1H
BEGIN:VTIMEZONE
TZID:America/Vancouver
BEGIN:DAYLIGHT
TZOFFSETFROM:-0800
TZOFFSETTO:-0700
TZNAME:PDT
DTSTART:20230312T100000
END:DAYLIGHT
BEGIN:STANDARD
TZOFFSETFROM:-0700
TZOFFSETTO:-0800
TZNAME:PST
DTSTART:20231105T090000
END:STANDARD
BEGIN:DAYLIGHT
TZOFFSETFROM:-0800
TZOFFSETTO:-0700
TZNAME:PDT
DTSTART:20240310T100000
END:DAYLIGHT
BEGIN:STANDARD
TZOFFSETFROM:-0700
TZOFFSETTO:-0800
TZNAME:PST
DTSTART:20241103T090000
END:STANDARD
BEGIN:DAYLIGHT
TZOFFSETFROM:-0800
TZOFFSETTO:-0700
TZNAME:PDT
DTSTART:20250309T100000
END:DAYLIGHT
BEGIN:STANDARD
TZOFFSETFROM:-0700
TZOFFSETTO:-0800
TZNAME:PST
DTSTART:20251102T090000
END:STANDARD
END:VTIMEZONE
BEGIN:VEVENT
DTSTART;TZID=America/Vancouver:20240422T180000
DTEND;TZID=America/Vancouver:20240428T220000
DTSTAMP:20260424T162350
CREATED:20240229T043840Z
LAST-MODIFIED:20240410T180350Z
UID:21363-1713808800-1714341600@www.passionandperformance.com
SUMMARY:Vancouver Donation Days - April 2024
DESCRIPTION:Don’t miss our next Donation Days!\n\nDonation Days are an opportunity to try out our classes by providing a small cash donation at the door or clothing/toiletries.\nAll proceeds to WISH Drop In Center Society.\n\nRegistration in advance for Donation Days is strongly recommended to save a spot for yourself in the class. Walk-ins will be welcome at this event\, provided there is space. You can pre-register for your Donation Days Classes HERE>>> https://clients.mindbodyonline.com/classic/ws?studioid=997839&stype=-102&sTG=70&sVT=109&sView=week&sLoc=2&date=09/10/23\n\n(Note: to see the classes\, make sure you go to the appropriate dates for the event on the top right corner and to set the location to the Vancouver studio location)\n\nIf you wish to sign up for the full session or program we strongly encourage you to register in advance as our classes fill up very quickly!\n\nIMPORTANT NOTE FOR STUDENTS: Our class capacity has returned to our standard class sizing. We encourage our students returning to dance since the pandemic to be kind to themselves. You may experience sensory sensitivity being in a crowded space with loud music again. It will take a few classes to get used to it. We recommend dancing in the back for your first few classes if you are concerned so you can easily access the door as necessary. We have many vulnerable members of our community at the studio\, we kindly ask that you navigate the space with care and consideration.\n\nPlease sanitize your hands frequently and keep a respectful distance from other students.\n\nFor more information visit:\nhttps://www.passionandperformance.com/\nEmail us at vancouver@passionandperformance.com\n\nSCHEDULE\nMonday\, April 22nd:\n6:30-7:30 Stretch & Strength: Show Prep Skills*\n7:30 – 8:30 Rotating: Spice Girls Mash-up*\n8:45-9:45 Drag 101*\n\nTuesday\, April 23rd:\n6:30-7:30 Heels Skills: Tech*\n7:30-8:30 Hotness 102***\n8:45-9:45 Pleasers Performing Class 2/3***\n8:45-9:45 Hip Hop 3****\n\nWednesday\, April 24th:\n6:15-7:15 Chair 1**\n6:15-7:15 Jazz Funk 1/2**\n7:15-8:15 Hotness Skills*\n8:30-9:30 Chair 2***\n9:30-10:30 Heels 3****\n9:30-10:30 Floorwork Skills*\n\nThursday\, April 25th:\n6:15-7:30 Brazilian Funk*\n7:30-8:30 Heels 1**\n7:30-8:30 Heels 2***\n8:30-9:30 Hotness 101**\n8:30-9:30 Tap 2***\n9:30-10:30 Slow Burn Heels 2/3***\n9:40-10:30 Heels Skills: Choreo*\n\nSunday\, April 28th:\n1:30-2:30 Hip Hop 2***\n2:30-3:30 Latin Skills*\n3:45-4:45 Latin Fusion*\n\nOne Star (*) is an open level class and all levels are welcome.\nTwo stars (**) is a beginner class.\nThree stars (***) is an intermediate class.\nFour stars (****) is an advanced or audition class
URL:https://www.passionandperformance.com/event/vancouver-donation-days-march-2024/
LOCATION:Vancouver Passion and Performance Studio\, 55 W 8th Ave\, Vancouver\, BC\, V5Y 1M8\, Canada
CATEGORIES:Vancouver Events,YVR Donation Days
ATTACH;FMTTYPE=image/png:https://www.passionandperformance.com/ol2020/wp-content/uploads/session-5.png
ORGANIZER;CN="Passion And Performance YVR":MAILTO:vancouver@passionandperformance.com
END:VEVENT
END:VCALENDAR