

BEGIN:VCALENDAR
VERSION:2.0
PRODID:-//Passion and Performance - ECPv6.15.18//NONSGML v1.0//EN
CALSCALE:GREGORIAN
METHOD:PUBLISH
X-ORIGINAL-URL:https://www.passionandperformance.com
X-WR-CALDESC:Events for Passion and Performance
REFRESH-INTERVAL;VALUE=DURATION:PT1H
X-Robots-Tag:noindex
X-PUBLISHED-TTL:PT1H
BEGIN:VTIMEZONE
TZID:America/Vancouver
BEGIN:DAYLIGHT
TZOFFSETFROM:-0800
TZOFFSETTO:-0700
TZNAME:PDT
DTSTART:20220313T100000
END:DAYLIGHT
BEGIN:STANDARD
TZOFFSETFROM:-0700
TZOFFSETTO:-0800
TZNAME:PST
DTSTART:20221106T090000
END:STANDARD
BEGIN:DAYLIGHT
TZOFFSETFROM:-0800
TZOFFSETTO:-0700
TZNAME:PDT
DTSTART:20230312T100000
END:DAYLIGHT
BEGIN:STANDARD
TZOFFSETFROM:-0700
TZOFFSETTO:-0800
TZNAME:PST
DTSTART:20231105T090000
END:STANDARD
BEGIN:DAYLIGHT
TZOFFSETFROM:-0800
TZOFFSETTO:-0700
TZNAME:PDT
DTSTART:20240310T100000
END:DAYLIGHT
BEGIN:STANDARD
TZOFFSETFROM:-0700
TZOFFSETTO:-0800
TZNAME:PST
DTSTART:20241103T090000
END:STANDARD
END:VTIMEZONE
BEGIN:VEVENT
DTSTART;TZID=America/Vancouver:20230817T190000
DTEND;TZID=America/Vancouver:20230817T220000
DTSTAMP:20260425T045129
CREATED:20230622T230054Z
LAST-MODIFIED:20230806T035604Z
UID:18873-1692298800-1692309600@www.passionandperformance.com
SUMMARY:Vancouver Summer Hotness Show
DESCRIPTION:A SPICY multi-genre in-studio showcase of our summer sessions & summer camps with Heels\, Chair\, Hip-hop\, Brazilian Funk\, Jazz Funk\, Burlesque\, Drag\, Broadway Jazz and Hotness\, plus special guest performances from: \n\nAva Hart\nSisGender & Diesel Sour\nConrad de Goya\nBizzy Body & Theo Rhetical\nTaterTwat\nNicole Scott & Moody Sheikh\n& More!\n\nMembers get $5 tickets and we have a full bar with drinks for purchase by cash or card. \nPost-show we will have a DJ with dancing and the bar open until 12am. \nThis is a safe space and 19+ only. \nContent will be mature and the vibes are to be supportive and loving only! \nMORE DETAILS AND GET TICKETS HERE>>>
URL:https://www.passionandperformance.com/event/vancouver-summer-hotness-show/
LOCATION:Vancouver Passion and Performance Studio\, 55 W 8th Ave\, Vancouver\, BC\, V5Y 1M8\, Canada
CATEGORIES:Vancouver Events,YVR Donation Days
ATTACH;FMTTYPE=image/png:https://www.passionandperformance.com/ol2020/wp-content/uploads/AVE-THE-DATE-THURSDAY-AUGUST-17TH-Instagram-Post-Square.png
ORGANIZER;CN="Passion And Performance YVR":MAILTO:vancouver@passionandperformance.com
END:VEVENT
END:VCALENDAR