

BEGIN:VCALENDAR
VERSION:2.0
PRODID:-//Passion and Performance - ECPv6.15.18//NONSGML v1.0//EN
CALSCALE:GREGORIAN
METHOD:PUBLISH
X-WR-CALNAME:Passion and Performance
X-ORIGINAL-URL:https://www.passionandperformance.com
X-WR-CALDESC:Events for Passion and Performance
REFRESH-INTERVAL;VALUE=DURATION:PT1H
X-Robots-Tag:noindex
X-PUBLISHED-TTL:PT1H
BEGIN:VTIMEZONE
TZID:America/Vancouver
BEGIN:DAYLIGHT
TZOFFSETFROM:-0800
TZOFFSETTO:-0700
TZNAME:PDT
DTSTART:20220313T100000
END:DAYLIGHT
BEGIN:STANDARD
TZOFFSETFROM:-0700
TZOFFSETTO:-0800
TZNAME:PST
DTSTART:20221106T090000
END:STANDARD
BEGIN:DAYLIGHT
TZOFFSETFROM:-0800
TZOFFSETTO:-0700
TZNAME:PDT
DTSTART:20230312T100000
END:DAYLIGHT
BEGIN:STANDARD
TZOFFSETFROM:-0700
TZOFFSETTO:-0800
TZNAME:PST
DTSTART:20231105T090000
END:STANDARD
BEGIN:DAYLIGHT
TZOFFSETFROM:-0800
TZOFFSETTO:-0700
TZNAME:PDT
DTSTART:20240310T100000
END:DAYLIGHT
BEGIN:STANDARD
TZOFFSETFROM:-0700
TZOFFSETTO:-0800
TZNAME:PST
DTSTART:20241103T090000
END:STANDARD
END:VTIMEZONE
BEGIN:VEVENT
DTSTART;TZID=America/Vancouver:20230610T190000
DTEND;TZID=America/Vancouver:20230610T210000
DTSTAMP:20260425T081159
CREATED:20230417T232048Z
LAST-MODIFIED:20230417T232048Z
UID:18088-1686423600-1686430800@www.passionandperformance.com
SUMMARY:Passion and Performance YVR presents Spring Showcase 2023
DESCRIPTION:Passion and Performance Vancouver is thrilled to present our First Annual Spring Showcase at the iconic Vogue Theatre. From heels to hip-hop\, chair dance to contemporary and all the way to drag – the Spring Showcase is packed with our signature sexy\, sultry\, and sassy styles. This recital style event features routines from all of our classes in one giant show with over 120 dancers from both our Vancouver and Victoria locations. Whether you’ve been part of the P&P Family for a while or are just joining us this session\, we want to invite you and your friends to celebrate this wonderful year with us! We have a HUGE exciting raffle with fabulous prizes to be announced. Full bar available. \n  \nWHEN:\nJune 10th\, 2023\nDoors at 6:00pm – Show starts at 7:00pm \n  \nWHERE:\nThe Vogue Theatre – 918 Granville St\, Vancouver\, BC V6Z 1L2 \n  \nTICKETS (get your tickets here):\nVIP – $63.00\nTier 1 – $47.25\nTier 2 – $36.75\nTier 3 – $26.25\nTier 4 – $20.00 \nPassion & Performance Members Presale: April 10\, 2023 @ 3pm PT \nGeneral Onsale: April 17\, 2023 @ 9am PT \n  \n**Please be advised that this is a 19+ event. This show features routines with mature content.
URL:https://www.passionandperformance.com/event/passion-and-performance-yvr-presents-spring-showcase-2023/
LOCATION:Vogue Theatre\, 918 Granville St\, Vancouver\, BC\, V6Z 1L2\, Canada
CATEGORIES:Vancouver Events
ATTACH;FMTTYPE=image/png:https://www.passionandperformance.com/ol2020/wp-content/uploads/pp-showcase-BANNER.png
END:VEVENT
BEGIN:VEVENT
DTSTART;TZID=America/Vancouver:20230612T183000
DTEND;TZID=America/Vancouver:20230615T213000
DTSTAMP:20260425T081159
CREATED:20230515T231411Z
LAST-MODIFIED:20230515T231411Z
UID:18728-1686594600-1686864600@www.passionandperformance.com
SUMMARY:YVR Donation Days June 12-15!
DESCRIPTION:Don’t miss our 6th Session Donation Days! \n  \nDonation Days are an opportunity to try out our classes by providing a small cash donation at the door or clothing/toiletries. All proceeds to WISH Drop In Center Society. \n  \nRegistration in advance for Donation Days is strongly recommended to save a spot for yourself in the class. Walk-ins will be welcome at this event\, provided there is space. You can pre-register for your Donation Days Classes HERE>>> https://clients.mindbodyonline.com/classic/mainclass\n(Note: to see the classes\, make sure you go to the appropriate dates for the event on the top right corner and to set the location to the Vancouver studio location) \n  \nIf you wish to sign up for the full session or program we strongly encourage you to register in advance as our classes fill up very quickly! You can register HERE (Make sure you select the Vancouver Location)>>>https://clients.mindbodyonline.com/classic/ws?studioid=997839&stype=-102&sTG=70&sVT=109&sView=week&sLoc=2&date=03/06/23 \n  \nSCHEDULE \nMonday June 12th\n6:30-7:30 Jumps\, Turns & Tech!*\n6:30-7:30 Barre*\n7:30-8:30 Jazz Funk**\n7:30-8:30 Lyrical Skills*\n8:30-9:30 Chair**\n8:30-9:30 Tap Skills* \n  \nTuesday June 13th\n6:00-7:00 Contemporary**\n7:30-8:30 Slow Burn Heels**\n8:30-9:30 Chair Skills*\n8:30-9:30 Brazilian Funk** \n  \nWednesday June 14th\n6:00-7:00 Latin Skills*\n7:30-8:30 Neo-Burlesque**\n8:30-9:30 Floorwork Fundamentals*\n8:30-9:30 Hip Hop Grooves* \n  \nThursday June 15th\n6:30-7:30 Hotness**\n7:30-8:30 Heels Skills: Tech*\n8:30-9:30 Heels Skills: Choreo**\n8:30-9:30 Broadway Jazz** \n  \nOne Star (*) is an open level class and all levels are welcome.\nTwo stars (**) is a beginner class.\nThree stars (***) is an intermediate class.\nFour stars (****) is an advanced or audition class. \n  \nIMPORTANT NOTE FOR STUDENTS: Our class capacity has returned to our standard class sizing. We encourage our students returning to dance since the pandemic to be kind to themselves. You may experience sensory sensitivity being in a crowded space with loud music again. It will take a few classes to get used to it. We recommend dancing in the back for your first few classes if you are concerned so you can easily access the door as necessary. We have many vulnerable members of our community at the studio\, we kindly ask that you navigate the space with care and consideration. Please sanitize your hands frequently and keep a respectful distance from other students. \n  \nFor more information visit:\nhttps://www.passionandperformance.com/\nEmail us at vancouver@passionandperformance.com
URL:https://www.passionandperformance.com/event/yvr-donation-days-june-12-15/
LOCATION:Vancouver Passion and Performance Studio\, 55 W 8th Ave\, Vancouver\, BC\, V5Y 1M8\, Canada
CATEGORIES:Vancouver Events,YVR Donation Days
ATTACH;FMTTYPE=image/png:https://www.passionandperformance.com/ol2020/wp-content/uploads/YVR-DD-2023-2.png
ORGANIZER;CN="Passion And Performance YVR":MAILTO:vancouver@passionandperformance.com
END:VEVENT
END:VCALENDAR